BEGIN:VCALENDAR
VERSION:2.0
PRODID:-//OMNI Construction - ECPv6.15.20//NONSGML v1.0//EN
CALSCALE:GREGORIAN
METHOD:PUBLISH
X-WR-CALNAME:OMNI Construction
X-ORIGINAL-URL:https://omnioklahoma.com
X-WR-CALDESC:Events for OMNI Construction
REFRESH-INTERVAL;VALUE=DURATION:PT1H
X-Robots-Tag:noindex
X-PUBLISHED-TTL:PT1H
BEGIN:VTIMEZONE
TZID:America/Chicago
BEGIN:DAYLIGHT
TZOFFSETFROM:-0600
TZOFFSETTO:-0500
TZNAME:CDT
DTSTART:20250309T080000
END:DAYLIGHT
BEGIN:STANDARD
TZOFFSETFROM:-0500
TZOFFSETTO:-0600
TZNAME:CST
DTSTART:20251102T070000
END:STANDARD
BEGIN:DAYLIGHT
TZOFFSETFROM:-0600
TZOFFSETTO:-0500
TZNAME:CDT
DTSTART:20260308T080000
END:DAYLIGHT
BEGIN:STANDARD
TZOFFSETFROM:-0500
TZOFFSETTO:-0600
TZNAME:CST
DTSTART:20261101T070000
END:STANDARD
BEGIN:DAYLIGHT
TZOFFSETFROM:-0600
TZOFFSETTO:-0500
TZNAME:CDT
DTSTART:20270314T080000
END:DAYLIGHT
BEGIN:STANDARD
TZOFFSETFROM:-0500
TZOFFSETTO:-0600
TZNAME:CST
DTSTART:20271107T070000
END:STANDARD
END:VTIMEZONE
BEGIN:VEVENT
DTSTART;TZID=America/Chicago:20260204T140000
DTEND;TZID=America/Chicago:20260204T140000
DTSTAMP:20260423T174959
CREATED:20260114T162232Z
LAST-MODIFIED:20260114T162232Z
UID:11112-1770213600-1770213600@omnioklahoma.com
SUMMARY:Westmoore HS Arena HVAC Replacement
DESCRIPTION:
URL:https://omnioklahoma.com/event/westmoore-hs-arena-hvac-replacement/
LOCATION:MPS Administration Building\, 1500 S.E. 4th Street\, Moore\, 73160
ORGANIZER;CN="OMNI Construction LLC":MAILTO:omniconstructionllc@coxinet.net
END:VEVENT
BEGIN:VEVENT
DTSTART;TZID=America/Chicago:20260304T140000
DTEND;TZID=America/Chicago:20260304T140000
DTSTAMP:20260423T174959
CREATED:20260211T010312Z
LAST-MODIFIED:20260211T154301Z
UID:11123-1772632800-1772632800@omnioklahoma.com
SUMMARY:Wayland Bonds 2025 HVAC
DESCRIPTION:
URL:https://omnioklahoma.com/event/wayland-bonds-2025-hvac/
LOCATION:MPS Administration Building\, 1500 S.E. 4th Street\, Moore\, 73160
ORGANIZER;CN="OMNI Construction LLC":MAILTO:omniconstructionllc@coxinet.net
END:VEVENT
BEGIN:VEVENT
DTSTART;TZID=America/Chicago:20260402T140000
DTEND;TZID=America/Chicago:20260402T140000
DTSTAMP:20260423T174959
CREATED:20260312T195016Z
LAST-MODIFIED:20260312T195106Z
UID:11138-1775138400-1775138400@omnioklahoma.com
SUMMARY:Wayland Bonds 2025 HVAC (Fencing)
DESCRIPTION:
URL:https://omnioklahoma.com/event/wayland-bonds-elementary-2025-hvac-fence/
LOCATION:MPS Administration Building\, 1500 S.E. 4th Street\, Moore\, 73160
ORGANIZER;CN="OMNI Construction LLC":MAILTO:omniconstructionllc@coxinet.net
END:VEVENT
BEGIN:VEVENT
DTSTART;TZID=America/Chicago:20260429T140000
DTEND;TZID=America/Chicago:20260429T140000
DTSTAMP:20260423T174959
CREATED:20260408T134913Z
LAST-MODIFIED:20260408T135008Z
UID:11147-1777471200-1777471200@omnioklahoma.com
SUMMARY:Old School Replacement
DESCRIPTION:
URL:https://omnioklahoma.com/event/old-school-replacement/
LOCATION:MPS Administration Building\, 1500 S.E. 4th Street\, Moore\, 73160
ORGANIZER;CN="OMNI Construction LLC":MAILTO:omniconstructionllc@coxinet.net
END:VEVENT
BEGIN:VEVENT
DTSTART;TZID=America/Chicago:20260429T140000
DTEND;TZID=America/Chicago:20260429T140000
DTSTAMP:20260423T174959
CREATED:20260408T142811Z
LAST-MODIFIED:20260408T142811Z
UID:11153-1777471200-1777471200@omnioklahoma.com
SUMMARY:Old School Salvage
DESCRIPTION:
URL:https://omnioklahoma.com/event/old-school-salvage/
LOCATION:MPS Administration Building\, 1500 S.E. 4th Street\, Moore\, 73160
ORGANIZER;CN="OMNI Construction LLC":MAILTO:omniconstructionllc@coxinet.net
END:VEVENT
END:VCALENDAR